BEGIN:VCALENDAR
VERSION:2.0
PRODID:-//K River Campground - ECPv6.15.20//NONSGML v1.0//EN
CALSCALE:GREGORIAN
METHOD:PUBLISH
X-ORIGINAL-URL:https://kriver.com
X-WR-CALDESC:Events for K River Campground
REFRESH-INTERVAL;VALUE=DURATION:PT1H
X-Robots-Tag:noindex
X-PUBLISHED-TTL:PT1H
BEGIN:VTIMEZONE
TZID:America/Chicago
BEGIN:DAYLIGHT
TZOFFSETFROM:-0600
TZOFFSETTO:-0500
TZNAME:CDT
DTSTART:20220313T080000
END:DAYLIGHT
BEGIN:STANDARD
TZOFFSETFROM:-0500
TZOFFSETTO:-0600
TZNAME:CST
DTSTART:20221106T070000
END:STANDARD
BEGIN:DAYLIGHT
TZOFFSETFROM:-0600
TZOFFSETTO:-0500
TZNAME:CDT
DTSTART:20230312T080000
END:DAYLIGHT
BEGIN:STANDARD
TZOFFSETFROM:-0500
TZOFFSETTO:-0600
TZNAME:CST
DTSTART:20231105T070000
END:STANDARD
BEGIN:DAYLIGHT
TZOFFSETFROM:-0600
TZOFFSETTO:-0500
TZNAME:CDT
DTSTART:20240310T080000
END:DAYLIGHT
BEGIN:STANDARD
TZOFFSETFROM:-0500
TZOFFSETTO:-0600
TZNAME:CST
DTSTART:20241103T070000
END:STANDARD
END:VTIMEZONE
BEGIN:VTIMEZONE
TZID:UTC
BEGIN:STANDARD
TZOFFSETFROM:+0000
TZOFFSETTO:+0000
TZNAME:UTC
DTSTART:20210101T000000
END:STANDARD
END:VTIMEZONE
BEGIN:VEVENT
DTSTART;VALUE=DATE:20230427
DTEND;VALUE=DATE:20230502
DTSTAMP:20260423T151521
CREATED:20230121T233615Z
LAST-MODIFIED:20230121T233615Z
UID:1092-1682560800-1682906399@kriver.com
SUMMARY:Fast Life
DESCRIPTION:
URL:https://kriver.com/event/fast-life/
LOCATION:KRIVER Campground\, 415209 E 1842 Rd\, Moyers\, OK\, 74557\, United States
END:VEVENT
BEGIN:VEVENT
DTSTART;TZID=America/Chicago:20230415T090000
DTEND;TZID=America/Chicago:20230416T000000
DTSTAMP:20260423T151521
CREATED:20230204T163235Z
LAST-MODIFIED:20230214T164433Z
UID:1129-1681549200-1681603200@kriver.com
SUMMARY:Family Fun Day
DESCRIPTION:
URL:https://kriver.com/event/family-fun-day/
LOCATION:KRIVER Campground\, 415209 E 1842 Rd\, Moyers\, OK\, 74557\, United States
ATTACH;FMTTYPE=image/png:https://kriver.com/wp-content/uploads/2023/02/KRIVER-FLYER-LIGHT.png
END:VEVENT
BEGIN:VEVENT
DTSTART;VALUE=DATE:20230128
DTEND;VALUE=DATE:20230201
DTSTAMP:20260423T151521
CREATED:20230121T234105Z
LAST-MODIFIED:20230121T234105Z
UID:1108-1674871200-1675130399@kriver.com
SUMMARY:Southern Cruisers
DESCRIPTION:
URL:https://kriver.com/event/southern-cruisers/
LOCATION:KRIVER Campground\, 415209 E 1842 Rd\, Moyers\, OK\, 74557\, United States
END:VEVENT
BEGIN:VEVENT
DTSTART;VALUE=DATE:20221231
DTEND;VALUE=DATE:20230101
DTSTAMP:20260423T151521
CREATED:20221020T062322Z
LAST-MODIFIED:20221020T062353Z
UID:395-1672452000-1672531199@kriver.com
SUMMARY:New Years Eve
DESCRIPTION:
URL:https://kriver.com/event/new-years-eve/
LOCATION:KRIVER Campground\, 415209 E 1842 Rd\, Moyers\, OK\, 74557\, United States
CATEGORIES:Holiday at KRIVER
END:VEVENT
BEGIN:VEVENT
DTSTART;VALUE=DATE:20221124
DTEND;VALUE=DATE:20221125
DTSTAMP:20260423T151521
CREATED:20221020T062653Z
LAST-MODIFIED:20221020T062653Z
UID:401-1669255200-1669334399@kriver.com
SUMMARY:Thanksgiving Get-Together
DESCRIPTION:
URL:https://kriver.com/event/thanksgiving-get-together-2/
LOCATION:KRIVER Campground\, 415209 E 1842 Rd\, Moyers\, OK\, 74557\, United States
CATEGORIES:Holiday at KRIVER
END:VEVENT
END:VCALENDAR