BEGIN:VCALENDAR
VERSION:2.0
PRODID:-//K River Campground - ECPv6.15.20//NONSGML v1.0//EN
CALSCALE:GREGORIAN
METHOD:PUBLISH
X-WR-CALNAME:K River Campground
X-ORIGINAL-URL:https://kriver.com
X-WR-CALDESC:Events for K River Campground
REFRESH-INTERVAL;VALUE=DURATION:PT1H
X-Robots-Tag:noindex
X-PUBLISHED-TTL:PT1H
BEGIN:VTIMEZONE
TZID:America/Chicago
BEGIN:DAYLIGHT
TZOFFSETFROM:-0600
TZOFFSETTO:-0500
TZNAME:CDT
DTSTART:20220313T080000
END:DAYLIGHT
BEGIN:STANDARD
TZOFFSETFROM:-0500
TZOFFSETTO:-0600
TZNAME:CST
DTSTART:20221106T070000
END:STANDARD
BEGIN:DAYLIGHT
TZOFFSETFROM:-0600
TZOFFSETTO:-0500
TZNAME:CDT
DTSTART:20230312T080000
END:DAYLIGHT
BEGIN:STANDARD
TZOFFSETFROM:-0500
TZOFFSETTO:-0600
TZNAME:CST
DTSTART:20231105T070000
END:STANDARD
BEGIN:DAYLIGHT
TZOFFSETFROM:-0600
TZOFFSETTO:-0500
TZNAME:CDT
DTSTART:20240310T080000
END:DAYLIGHT
BEGIN:STANDARD
TZOFFSETFROM:-0500
TZOFFSETTO:-0600
TZNAME:CST
DTSTART:20241103T070000
END:STANDARD
BEGIN:DAYLIGHT
TZOFFSETFROM:-0600
TZOFFSETTO:-0500
TZNAME:CDT
DTSTART:20250309T080000
END:DAYLIGHT
BEGIN:STANDARD
TZOFFSETFROM:-0500
TZOFFSETTO:-0600
TZNAME:CST
DTSTART:20251102T070000
END:STANDARD
BEGIN:DAYLIGHT
TZOFFSETFROM:-0600
TZOFFSETTO:-0500
TZNAME:CDT
DTSTART:20260308T080000
END:DAYLIGHT
BEGIN:STANDARD
TZOFFSETFROM:-0500
TZOFFSETTO:-0600
TZNAME:CST
DTSTART:20261101T070000
END:STANDARD
END:VTIMEZONE
BEGIN:VEVENT
DTSTART;VALUE=DATE:20251016
DTEND;VALUE=DATE:20251020
DTSTAMP:20260423T103817
CREATED:20250812T172343Z
LAST-MODIFIED:20250812T173007Z
UID:1595-1760580000-1760839199@kriver.com
SUMMARY:3 Day Bluegrass Festival
DESCRIPTION:We here at K River Campground are hosting a Bluegrass Festival October 16th – 18th. Go to our Facebook page for more information.  \n 
URL:https://kriver.com/event/3-day-bluegrass-festival/
CATEGORIES:Music Event
END:VEVENT
BEGIN:VEVENT
DTSTART;VALUE=DATE:20251009
DTEND;VALUE=DATE:20251014
DTSTAMP:20260423T103817
CREATED:20250506T032330Z
LAST-MODIFIED:20250506T101303Z
UID:1556-1759975200-1760320799@kriver.com
SUMMARY:Stubborn American Rally 2025
DESCRIPTION:KRIVER Campground 415209 E 1842 Rd\, Moyers
URL:https://kriver.com/event/stubborn-american-rally-2025/
CATEGORIES:Motorcycle Event
END:VEVENT
BEGIN:VEVENT
DTSTART;VALUE=DATE:20250705
DTEND;VALUE=DATE:20250707
DTSTAMP:20260423T103817
CREATED:20250506T033849Z
LAST-MODIFIED:20250506T034613Z
UID:1559-1751680800-1751767199@kriver.com
SUMMARY:JULY 4TH
DESCRIPTION:Fireworks will start at dark. Day passes available with no reservation for adults. Kids 16 and under are free. 
URL:https://kriver.com/event/july-4th-2/
LOCATION:KRIVER Campground\, 415209 E 1842 Rd\, Moyers\, OK\, 74557\, United States
CATEGORIES:Holiday at KRIVER
END:VEVENT
BEGIN:VEVENT
DTSTART;VALUE=DATE:20250613
DTEND;VALUE=DATE:20250617
DTSTAMP:20260423T103817
CREATED:20250507T001543Z
LAST-MODIFIED:20250507T001543Z
UID:1574-1749780000-1750039199@kriver.com
SUMMARY:Father's Day Weekend
DESCRIPTION:35% off of all RV spots for Father’s Day weekend. 
URL:https://kriver.com/event/fathers-day-weekend/
END:VEVENT
BEGIN:VEVENT
DTSTART;VALUE=DATE:20250526
DTEND;VALUE=DATE:20250528
DTSTAMP:20260423T103817
CREATED:20250506T102130Z
LAST-MODIFIED:20250523T013541Z
UID:1571-1748224800-1748311199@kriver.com
SUMMARY:Memorial Day Weekend
DESCRIPTION:Come out and enjoy this 3-day weekend with family and friends. As always remember what this holiday is for! The ones that lost their lives so that we could have our freedom. 
URL:https://kriver.com/event/memorial-day-weekend/
CATEGORIES:Holiday at KRIVER
END:VEVENT
BEGIN:VEVENT
DTSTART;VALUE=DATE:20250509
DTEND;VALUE=DATE:20250513
DTSTAMP:20260423T103817
CREATED:20250506T042913Z
LAST-MODIFIED:20250507T001723Z
UID:1568-1746756000-1747015199@kriver.com
SUMMARY:Mother's Day Weekend
DESCRIPTION:20% off on cabins for that special mom in your life!
URL:https://kriver.com/event/mothers-day-weekend/
END:VEVENT
BEGIN:VEVENT
DTSTART;VALUE=DATE:20240725
DTEND;VALUE=DATE:20240730
DTSTAMP:20260423T103817
CREATED:20231101T212049Z
LAST-MODIFIED:20231101T212639Z
UID:1466-1721872800-1722218399@kriver.com
SUMMARY:Operation Tears of the 22
DESCRIPTION:
URL:https://kriver.com/event/operation-tears-of-the-22/
LOCATION:KRIVER Campground\, 415209 E 1842 Rd\, Moyers\, OK\, 74557\, United States
END:VEVENT
BEGIN:VEVENT
DTSTART;VALUE=DATE:20240620
DTEND;VALUE=DATE:20240625
DTSTAMP:20260423T103817
CREATED:20230927T012159Z
LAST-MODIFIED:20230927T012601Z
UID:1408-1718848800-1719194399@kriver.com
SUMMARY:Stubborn American Rally 2024
DESCRIPTION:
URL:https://kriver.com/event/stubborn-american-rally-2024/
LOCATION:KRIVER Campground\, 415209 E 1842 Rd\, Moyers\, OK\, 74557\, United States
CATEGORIES:Motorcycle Event
END:VEVENT
BEGIN:VEVENT
DTSTART;VALUE=DATE:20240502
DTEND;VALUE=DATE:20240507
DTSTAMP:20260423T103817
CREATED:20240111T012954Z
LAST-MODIFIED:20240111T012954Z
UID:1496-1714615200-1714960799@kriver.com
SUMMARY:Fast Life Campout
DESCRIPTION:This motorcycle campout presents a unique opportunity for individuals to step out of their comfort zones and connect with like-minded individuals. Just show up\, camp\, ride\, and party. \n(This event is for adults only)
URL:https://kriver.com/event/fast-life-campout/
LOCATION:KRIVER Campground\, 415209 E 1842 Rd\, Moyers\, OK\, 74557\, United States
CATEGORIES:Motorcycle Event
END:VEVENT
BEGIN:VEVENT
DTSTART;VALUE=DATE:20240408
DTEND;VALUE=DATE:20240410
DTSTAMP:20260423T103817
CREATED:20240111T012650Z
LAST-MODIFIED:20240112T021021Z
UID:1493-1712541600-1712627999@kriver.com
SUMMARY:Total Eclipse Viewing
DESCRIPTION:Join us at K River to experience one of nature’s greatest sights – a total eclipse passing over Southern Oklahoma. Enjoy the experience safely with the provided eclipse sunglasses. The eclipse is at totality at 1:44pm on April 8th but stick around for a special community bon fire and evening hang out.
URL:https://kriver.com/event/total-eclipse-viewing/
CATEGORIES:Promotion
ATTACH;FMTTYPE=image/jpeg:https://kriver.com/wp-content/uploads/2024/01/Witness-the-Total-Solar-Eclipse-on-April-8th-at-144pm-1.jpg
END:VEVENT
BEGIN:VEVENT
DTSTART;VALUE=DATE:20240317
DTEND;VALUE=DATE:20240320
DTSTAMP:20260423T103817
CREATED:20240111T013203Z
LAST-MODIFIED:20240309T161533Z
UID:1499-1710640800-1710813599@kriver.com
SUMMARY:Old Skool Run
DESCRIPTION:
URL:https://kriver.com/event/old-skool-run/
LOCATION:KRIVER Campground\, 415209 E 1842 Rd\, Moyers\, OK\, 74557\, United States
CATEGORIES:Motorcycle Event
ATTACH;FMTTYPE=image/jpeg:https://kriver.com/wp-content/uploads/2024/03/IMG_3895.jpeg
END:VEVENT
BEGIN:VEVENT
DTSTART;VALUE=DATE:20240301
DTEND;VALUE=DATE:20240402
DTSTAMP:20260423T103817
CREATED:20240111T012421Z
LAST-MODIFIED:20240309T161243Z
UID:1491-1709258400-1711936799@kriver.com
SUMMARY:Spring Break Special
DESCRIPTION:Looking to make the most of Spring Break this year? We got you covered. Book a two night stay at either one of our locations and receive a third night on us! Enjoy a calm country getaway at K River or explore historic Eureka Springs only two miles from Green Tree. Call our office to book at this special spring rate.
URL:https://kriver.com/event/spring-break-special/
LOCATION:KRIVER Campground\, 415209 E 1842 Rd\, Moyers\, OK\, 74557\, United States
CATEGORIES:Promotion
END:VEVENT
BEGIN:VEVENT
DTSTART;VALUE=DATE:20240209
DTEND;VALUE=DATE:20240220
DTSTAMP:20260423T103817
CREATED:20240111T012203Z
LAST-MODIFIED:20240111T012203Z
UID:1487-1707444000-1708307999@kriver.com
SUMMARY:Valentine's Special
DESCRIPTION:
URL:https://kriver.com/event/valentines-special/
LOCATION:KRIVER Campground\, 415209 E 1842 Rd\, Moyers\, OK\, 74557\, United States
CATEGORIES:Holiday at KRIVER,Promotion
ATTACH;FMTTYPE=image/jpeg:https://kriver.com/wp-content/uploads/2024/01/IMG_1462-scaled.jpeg
END:VEVENT
BEGIN:VEVENT
DTSTART;VALUE=DATE:20231110
DTEND;VALUE=DATE:20231114
DTSTAMP:20260423T103817
CREATED:20230122T022208Z
LAST-MODIFIED:20230122T022208Z
UID:1118-1699581600-1699840799@kriver.com
SUMMARY:Veteran Day Weekend
DESCRIPTION:
URL:https://kriver.com/event/veteran-day-weekend/
LOCATION:KRIVER Campground\, 415209 E 1842 Rd\, Moyers\, OK\, 74557\, United States
CATEGORIES:Holiday at KRIVER
END:VEVENT
BEGIN:VEVENT
DTSTART;VALUE=DATE:20231028
DTEND;VALUE=DATE:20231030
DTSTAMP:20260423T103817
CREATED:20230601T021707Z
LAST-MODIFIED:20230601T021707Z
UID:1379-1698458400-1698544799@kriver.com
SUMMARY:Rojaf Wedding
DESCRIPTION:
URL:https://kriver.com/event/rojaf-wedding/
LOCATION:KRIVER Campground\, 415209 E 1842 Rd\, Moyers\, OK\, 74557\, United States
CATEGORIES:Wedding
END:VEVENT
BEGIN:VEVENT
DTSTART;VALUE=DATE:20231019
DTEND;VALUE=DATE:20231024
DTSTAMP:20260423T103817
CREATED:20230825T012627Z
LAST-MODIFIED:20230825T012627Z
UID:1393-1697680800-1698026399@kriver.com
SUMMARY:North East Texas GPAA
DESCRIPTION:
URL:https://kriver.com/event/north-east-texas-gpaa/
LOCATION:KRIVER Campground\, 415209 E 1842 Rd\, Moyers\, OK\, 74557\, United States
ORGANIZER;CN="North East Texas GPAA":MAILTO:hssanders@live.com
END:VEVENT
BEGIN:VEVENT
DTSTART;VALUE=DATE:20230928
DTEND;VALUE=DATE:20231002
DTSTAMP:20260423T103817
CREATED:20230923T160041Z
LAST-MODIFIED:20230923T160340Z
UID:1403-1695866400-1696125599@kriver.com
SUMMARY:Stubborn American Rally 2023
DESCRIPTION:
URL:https://kriver.com/event/stubborn-american-rally-2023/
LOCATION:KRIVER Campground\, 415209 E 1842 Rd\, Moyers\, OK\, 74557\, United States
CATEGORIES:Motorcycle Event
END:VEVENT
BEGIN:VEVENT
DTSTART;VALUE=DATE:20230921
DTEND;VALUE=DATE:20230926
DTSTAMP:20260423T103817
CREATED:20230601T021627Z
LAST-MODIFIED:20230601T021627Z
UID:1377-1695261600-1695607199@kriver.com
SUMMARY:Brotherhood Marine Corps
DESCRIPTION:
URL:https://kriver.com/event/brotherhood-marine-corps/
LOCATION:KRIVER Campground\, 415209 E 1842 Rd\, Moyers\, OK\, 74557\, United States
END:VEVENT
BEGIN:VEVENT
DTSTART;VALUE=DATE:20230908
DTEND;VALUE=DATE:20230912
DTSTAMP:20260423T103817
CREATED:20230607T144953Z
LAST-MODIFIED:20230607T144953Z
UID:1383-1694138400-1694397599@kriver.com
SUMMARY:TRCA Company Retreat
DESCRIPTION:
URL:https://kriver.com/event/trca-company-retreat/
LOCATION:KRIVER Campground\, 415209 E 1842 Rd\, Moyers\, OK\, 74557\, United States
END:VEVENT
BEGIN:VEVENT
DTSTART;VALUE=DATE:20230908
DTEND;VALUE=DATE:20230912
DTSTAMP:20260423T103817
CREATED:20230601T021547Z
LAST-MODIFIED:20230601T021813Z
UID:1375-1694138400-1694397599@kriver.com
SUMMARY:Iron Butt Run Wheels for Warriors (rest stop)
DESCRIPTION:
URL:https://kriver.com/event/iron-butt-run-wheels-for-warriors-rest-stop/
LOCATION:KRIVER Campground\, 415209 E 1842 Rd\, Moyers\, OK\, 74557\, United States
END:VEVENT
BEGIN:VEVENT
DTSTART;VALUE=DATE:20230902
DTEND;VALUE=DATE:20230904
DTSTAMP:20260423T103817
CREATED:20230601T021426Z
LAST-MODIFIED:20230601T021426Z
UID:1373-1693620000-1693706399@kriver.com
SUMMARY:Cheek Wedding
DESCRIPTION:
URL:https://kriver.com/event/cheek-wedding/
LOCATION:KRIVER Campground\, 415209 E 1842 Rd\, Moyers\, OK\, 74557\, United States
CATEGORIES:Wedding
END:VEVENT
BEGIN:VEVENT
DTSTART;VALUE=DATE:20230901
DTEND;VALUE=DATE:20230906
DTSTAMP:20260423T103817
CREATED:20230121T234210Z
LAST-MODIFIED:20230121T234210Z
UID:1112-1693533600-1693879199@kriver.com
SUMMARY:Labor Day Weekend
DESCRIPTION:
URL:https://kriver.com/event/labor-day-weekend/
LOCATION:KRIVER Campground\, 415209 E 1842 Rd\, Moyers\, OK\, 74557\, United States
CATEGORIES:Holiday at KRIVER
END:VEVENT
BEGIN:VEVENT
DTSTART;VALUE=DATE:20230805
DTEND;VALUE=DATE:20230816
DTSTAMP:20260423T103817
CREATED:20230121T234138Z
LAST-MODIFIED:20230121T234138Z
UID:1110-1691200800-1692064799@kriver.com
SUMMARY:Sturgis Rally
DESCRIPTION:
URL:https://kriver.com/event/sturgis-rally/
END:VEVENT
BEGIN:VEVENT
DTSTART;VALUE=DATE:20230728
DTEND;VALUE=DATE:20230801
DTSTAMP:20260423T103817
CREATED:20230601T021240Z
LAST-MODIFIED:20230601T021313Z
UID:1371-1690509600-1690768799@kriver.com
SUMMARY:Southern Cruisers
DESCRIPTION:
URL:https://kriver.com/event/southern-cruisers-2/
LOCATION:KRIVER Campground\, 415209 E 1842 Rd\, Moyers\, OK\, 74557\, United States
END:VEVENT
BEGIN:VEVENT
DTSTART;VALUE=DATE:20230713
DTEND;VALUE=DATE:20230718
DTSTAMP:20260423T103817
CREATED:20230121T234035Z
LAST-MODIFIED:20230121T234035Z
UID:1106-1689213600-1689559199@kriver.com
SUMMARY:Operation Tears 22
DESCRIPTION:
URL:https://kriver.com/event/operation-tears-22/
LOCATION:KRIVER Campground\, 415209 E 1842 Rd\, Moyers\, OK\, 74557\, United States
END:VEVENT
BEGIN:VEVENT
DTSTART;VALUE=DATE:20230707
DTEND;VALUE=DATE:20230709
DTSTAMP:20260423T103817
CREATED:20230601T021139Z
LAST-MODIFIED:20230601T021139Z
UID:1369-1688695200-1688781599@kriver.com
SUMMARY:Martinez Wedding
DESCRIPTION:
URL:https://kriver.com/event/martinez-wedding/
LOCATION:KRIVER Campground\, 415209 E 1842 Rd\, Moyers\, OK\, 74557\, United States
CATEGORIES:Wedding
END:VEVENT
BEGIN:VEVENT
DTSTART;VALUE=DATE:20230704
DTEND;VALUE=DATE:20230706
DTSTAMP:20260423T103817
CREATED:20230121T234002Z
LAST-MODIFIED:20230607T144850Z
UID:1104-1688436000-1688522399@kriver.com
SUMMARY:July 4th
DESCRIPTION:
URL:https://kriver.com/event/july-4th/
LOCATION:KRIVER Campground\, 415209 E 1842 Rd\, Moyers\, OK\, 74557\, United States
CATEGORIES:Holiday at KRIVER
END:VEVENT
BEGIN:VEVENT
DTSTART;VALUE=DATE:20230622
DTEND;VALUE=DATE:20230627
DTSTAMP:20260423T103817
CREATED:20230121T233934Z
LAST-MODIFIED:20230503T030313Z
UID:1102-1687399200-1687744799@kriver.com
SUMMARY:Special Forces Brotherhood MC
DESCRIPTION:
URL:https://kriver.com/event/special-forces-brotherhood-mc/
LOCATION:KRIVER Campground\, 415209 E 1842 Rd\, Moyers\, OK\, 74557\, United States
END:VEVENT
BEGIN:VEVENT
DTSTART;VALUE=DATE:20230617
DTEND;VALUE=DATE:20230620
DTSTAMP:20260423T103817
CREATED:20230121T233856Z
LAST-MODIFIED:20230121T233856Z
UID:1100-1686967200-1687139999@kriver.com
SUMMARY:Fathers Day
DESCRIPTION:
URL:https://kriver.com/event/fathers-day/
LOCATION:KRIVER Campground\, 415209 E 1842 Rd\, Moyers\, OK\, 74557\, United States
CATEGORIES:Holiday at KRIVER
END:VEVENT
BEGIN:VEVENT
DTSTART;VALUE=DATE:20230616
DTEND;VALUE=DATE:20230620
DTSTAMP:20260423T103817
CREATED:20230601T021043Z
LAST-MODIFIED:20230601T021043Z
UID:1367-1686880800-1687139999@kriver.com
SUMMARY:Testerman Family Reunion
DESCRIPTION:
URL:https://kriver.com/event/testerman-family-reunion/
LOCATION:KRIVER Campground\, 415209 E 1842 Rd\, Moyers\, OK\, 74557\, United States
END:VEVENT
END:VCALENDAR